BEGIN:VCALENDAR
VERSION:2.0
PRODID:-//Crime Prevention HQ - ECPv6.15.17.1//NONSGML v1.0//EN
CALSCALE:GREGORIAN
METHOD:PUBLISH
X-WR-CALNAME:Crime Prevention HQ
X-ORIGINAL-URL:https://crimepreventionhq.com
X-WR-CALDESC:Events for Crime Prevention HQ
REFRESH-INTERVAL;VALUE=DURATION:PT1H
X-Robots-Tag:noindex
X-PUBLISHED-TTL:PT1H
BEGIN:VTIMEZONE
TZID:America/New_York
BEGIN:DAYLIGHT
TZOFFSETFROM:-0500
TZOFFSETTO:-0400
TZNAME:EDT
DTSTART:20250309T070000
END:DAYLIGHT
BEGIN:STANDARD
TZOFFSETFROM:-0400
TZOFFSETTO:-0500
TZNAME:EST
DTSTART:20251102T060000
END:STANDARD
BEGIN:DAYLIGHT
TZOFFSETFROM:-0500
TZOFFSETTO:-0400
TZNAME:EDT
DTSTART:20260308T070000
END:DAYLIGHT
BEGIN:STANDARD
TZOFFSETFROM:-0400
TZOFFSETTO:-0500
TZNAME:EST
DTSTART:20261101T060000
END:STANDARD
BEGIN:DAYLIGHT
TZOFFSETFROM:-0500
TZOFFSETTO:-0400
TZNAME:EDT
DTSTART:20270314T070000
END:DAYLIGHT
BEGIN:STANDARD
TZOFFSETFROM:-0400
TZOFFSETTO:-0500
TZNAME:EST
DTSTART:20271107T060000
END:STANDARD
BEGIN:DAYLIGHT
TZOFFSETFROM:-0500
TZOFFSETTO:-0400
TZNAME:EDT
DTSTART:20280312T070000
END:DAYLIGHT
BEGIN:STANDARD
TZOFFSETFROM:-0400
TZOFFSETTO:-0500
TZNAME:EST
DTSTART:20281105T060000
END:STANDARD
END:VTIMEZONE
BEGIN:VEVENT
DTSTART;TZID=America/New_York:20260504T080000
DTEND;TZID=America/New_York:20260506T170000
DTSTAMP:20260425T121549
CREATED:20260304T131043Z
LAST-MODIFIED:20260304T131754Z
UID:56325-1777881600-1778086800@crimepreventionhq.com
SUMMARY:FCPTI Advanced Crime Prevention Through Environmental Design (CPTED) Course - May 2026
DESCRIPTION:Course Description\nThe Advanced Crime Prevention Through Environmental Design (CPTED) course offered by the Attorney General’s Office is designed for individuals who have completed the Basic CPTED or 5-day CPTED for Schools class which includes plan review\, report writing\, lighting\, zoning\, behavioral management\, etc. Advanced CPTED will expand upon the Basic CPTED / 5-day CPTED for Schools course by incorporating new topics. Special emphasis will be placed on city ordinances and codes\, along with design reviews\, report writing\, and presentation skills. Lighting in relationship to the physical environment and the use of colors in behavioral management will be discussed. This is a “hands on” course which requires a basic understanding of CPTED concepts. Working exercises will be conducted throughout the three days in both the classroom and the field. Student participation is a must in order to successfully complete the class. Class participants will complete a working exercise which will incorporate a CPTED photometric or lighting survey. \nThis course is one of two courses necessary for the Florida Crime Prevention Through Environmental Design Practitioner designation.  \n** Course Prerequisites: YOU MUST HAVE TAKEN THE AG BASIC CPTED (or 5-day CPTED FOR SCHOOLS) COURSE TO ATTEND.  \n** There will be a night time lighting exercise. Please note the course schedule when you receive the confirmation notice.  \n*** Course topics are subject to change. This course does not count towards any Victims Service Designation Renewal hours. \nTraining Location\nThis course will be held at the Doubletree by Hilton Orlando Theme Park Resort. \nLodging\nHilton Orlando Theme Park Resort at 10100 International Drive. Orlando\, FL\, 32821. For reservations\, click the link below\, or call (407) 352-1100. The room rate is $129.00 and reservations must be made by April 5\, 2026. \nReservation Link:\nBook your group rate for • Florida Crime Prevention Training Institute – Advanced CPTED \nInstructor\nI will be instructing this course for the Florida Office of the Attorney General’s Florida Crime Prevention Training Institute. Although I am an instructor for the FCPTI\, I am not an employee. \nRegistration Link\nhttps://www.fcpti.com/fcpti.nsf/forms/96C3B41ECA739AB685258CED0066DC14 \n  \n  \nShare this:\n				Share on X (Opens in new window)\n				X\n			\n				Share on Facebook (Opens in new window)\n				Facebook\n			\n				Email a link to a friend (Opens in new window)\n				Email\n			\n				Print (Opens in new window)\n				Print\n			More\n				Share on LinkedIn (Opens in new window)\n				LinkedIn\n			\n				Share on Reddit (Opens in new window)\n				Reddit\n			\n				Share on Pinterest (Opens in new window)\n				Pinterest\n			\n				Share on Tumblr (Opens in new window)\n				Tumblr
URL:https://crimepreventionhq.com/event/fcpti-advanced-crime-prevention-through-environmental-design-cpted-course-may-2026
LOCATION:Doubletree by Hilton Orlando Theme Park Resort\, 10100 International Drive\, Orlando\, FL\, 32821\, United States
CATEGORIES:CPTED,FCPTI,Training Class
ATTACH;FMTTYPE=image/png:https://www.tothcomm.com/cp/files/2022/01/FCPTI-Transparent.png
ORGANIZER;CN="Office of the Attorney General of Florida %E2%80%93 Florida Crime Prevention Training Institute":MAILTO:fcpti@myfloridalegal.com
END:VEVENT
BEGIN:VEVENT
DTSTART;TZID=America/New_York:20260507T080000
DTEND;TZID=America/New_York:20260507T170000
DTSTAMP:20260425T121549
CREATED:20260304T132439Z
LAST-MODIFIED:20260304T133304Z
UID:56327-1778140800-1778173200@crimepreventionhq.com
SUMMARY:FCPTI Crime Prevention Through Environmental Design (CPTED) Update Course - May 2026
DESCRIPTION:Course Description\nThe Florida Crime Prevention CPTED Practitioner (FCP) Update course is designed for individuals who already possess the Florida CPTED Practitioner (FCP) designation. The one-day (8 hour) course provides new and updated information on Crime Prevention Through Environmental Design from the United States and International CPTED programs. Course content is continually updated to ensure that the most recent information is made available to class participants. \n*This course fulfills the renewal requirements for the Florida Crime Prevention CPTED Practitioner designation. \n*Course topics are subject to change. This course does not count towards any Victims Service Designation Renewal hours. \nFor more information\, see the Florida Crime Prevention Training Institute website. \nTraining Location\nThis course will be held at the Doubletree by Hilton Orlando Theme Park Resort. \nLodging\nDoubletree by Hilton Orlando Theme Park Resort\, at 10100 International Drive. Orlando\, FL\, 32821. For reservations\, click the link below\, or call (407) 352-1100. The room rate is $119.00 and reservations must be made by April 15\, 2026. Group Code: Florida Crime Prevention Training Institute – CPTED Update \nReservation Link:\nBook your group rate for • Florida Crime Prevention Training Institute – CPTED Update \nInstructor\nI will be instructing this course for the Florida Office of the Attorney General’s Florida Crime Prevention Training Institute. Although I am an instructor for the FCPTI\, I am not an employee. \nShare this:\n				Share on X (Opens in new window)\n				X\n			\n				Share on Facebook (Opens in new window)\n				Facebook\n			\n				Email a link to a friend (Opens in new window)\n				Email\n			\n				Print (Opens in new window)\n				Print\n			More\n				Share on LinkedIn (Opens in new window)\n				LinkedIn\n			\n				Share on Reddit (Opens in new window)\n				Reddit\n			\n				Share on Pinterest (Opens in new window)\n				Pinterest\n			\n				Share on Tumblr (Opens in new window)\n				Tumblr
URL:https://crimepreventionhq.com/event/fcpti-crime-prevention-through-environmental-design-cpted-update-course-may-2026
LOCATION:Doubletree by Hilton Orlando Theme Park Resort\, 10100 International Drive\, Orlando\, FL\, 32821\, United States
CATEGORIES:CPTED,FCPTI,Training Class
ATTACH;FMTTYPE=image/png:https://www.tothcomm.com/cp/files/2022/01/FCPTI-Transparent.png
ORGANIZER;CN="Office of the Attorney General of Florida %E2%80%93 Florida Crime Prevention Training Institute":MAILTO:fcpti@myfloridalegal.com
END:VEVENT
BEGIN:VEVENT
DTSTART;TZID=America/New_York:20270601T080000
DTEND;TZID=America/New_York:20270603T170000
DTSTAMP:20260425T121549
CREATED:20260303T150047Z
LAST-MODIFIED:20260303T151616Z
UID:56319-1811836800-1812042000@crimepreventionhq.com
SUMMARY:FCPTI Crime Prevention Through Environmental Design (CPTED) for Houses of Worship - June 2026
DESCRIPTION:The CPTED for Houses of Worship is a three-day (24 hour) class specifically designed for individuals who have completed the Basic CPTED class or the 5-day CPTED for Schools class. CPTED for Houses of Worship will evaluate houses of worship and their surrounding properties utilizing Crime Prevention Through Environmental Design (CPTED) strategies. Participants will assess the relationship between the design and the use of space at houses of worship and how it affects criminal activity and human behavior. Students will evaluate the existing physical environment and apply CPTED strategies to reduce opportunities of crime and will meet the facility’s risk management parameters. Course attendees will take part in on-site house of worship CPTED audits at nearby locations. Attendees should be aware that basic CPTED principles are the foundation of this training and will be reviewed as part of the course curriculum. For experienced CPTED attendees\, the first day will be a review of those concepts with an emphasis on houses of worship. This class is recommended for house of worship security teams and safety personnel\, architects\, facility management\, and law enforcement personnel. \n** Prerequisites: This course is part of the CPTED Practitioner Series specifically designed for individuals who have completed the Basic CPTED class or the 5-day CPTED for Schools class. CPTED Practitioners preferred. ** YOU MUST HAVE TAKEN THE AG BASIC CPTED (or 5-day CPTED FOR SCHOOLS) COURSE TO ATTEND.  ** Course topics are subject to change. **Students must attend all sessions and pass a written examination in order to receive a certificate. \n** PLEASE NOTE: This course does NOT count as a CPTED Update course.  \n** Course topics are subject to change.  \nTraining Location\n\n\n\nThis course will be held at the Doubletree by Hilton Orlando Theme Park Resort\, at 10100 International Drive. Orlando\, Fl\, 32821\n\n\n\nLodging\nDoubletree by Hilton Orlando Theme Park Resort\, at 10100 International Drive. Orlando\, Fl\, 32821. For reservations\, call (407) 352-1100. The room rate is $119.00 and reservations must be made by May 10\, 2026. \nReservation link: Book your group rate for • CPTED Houses of Worship Training \nInstructor\nI will be instructing this course for the Florida Office of the Attorney General’s Florida Crime Prevention Training Institute. Although I am an instructor for the FCPTI\, I am not an employee. \nShare this:\n				Share on X (Opens in new window)\n				X\n			\n				Share on Facebook (Opens in new window)\n				Facebook\n			\n				Email a link to a friend (Opens in new window)\n				Email\n			\n				Print (Opens in new window)\n				Print\n			More\n				Share on LinkedIn (Opens in new window)\n				LinkedIn\n			\n				Share on Reddit (Opens in new window)\n				Reddit\n			\n				Share on Pinterest (Opens in new window)\n				Pinterest\n			\n				Share on Tumblr (Opens in new window)\n				Tumblr
URL:https://crimepreventionhq.com/event/fcpti-crime-prevention-through-environmental-design-cpted-for-houses-of-worship-june-2026
LOCATION:Doubletree by Hilton Orlando Theme Park Resort\, 10100 International Drive\, Orlando\, FL\, 32821\, United States
CATEGORIES:CPTED,FCPTI,Training Class
ATTACH;FMTTYPE=image/jpeg:https://www.tothcomm.com/cp/files/2016/02/fcpti1.jpg
ORGANIZER;CN="Office of the Attorney General of Florida %E2%80%93 Florida Crime Prevention Training Institute":MAILTO:fcpti@myfloridalegal.com
END:VEVENT
END:VCALENDAR