BEGIN:VCALENDAR
VERSION:2.0
PRODID:-//Crime Prevention HQ - ECPv6.15.17.1//NONSGML v1.0//EN
CALSCALE:GREGORIAN
METHOD:PUBLISH
X-ORIGINAL-URL:https://crimepreventionhq.com
X-WR-CALDESC:Events for Crime Prevention HQ
REFRESH-INTERVAL;VALUE=DURATION:PT1H
X-Robots-Tag:noindex
X-PUBLISHED-TTL:PT1H
BEGIN:VTIMEZONE
TZID:America/New_York
BEGIN:DAYLIGHT
TZOFFSETFROM:-0500
TZOFFSETTO:-0400
TZNAME:EDT
DTSTART:20240310T070000
END:DAYLIGHT
BEGIN:STANDARD
TZOFFSETFROM:-0400
TZOFFSETTO:-0500
TZNAME:EST
DTSTART:20241103T060000
END:STANDARD
BEGIN:DAYLIGHT
TZOFFSETFROM:-0500
TZOFFSETTO:-0400
TZNAME:EDT
DTSTART:20250309T070000
END:DAYLIGHT
BEGIN:STANDARD
TZOFFSETFROM:-0400
TZOFFSETTO:-0500
TZNAME:EST
DTSTART:20251102T060000
END:STANDARD
BEGIN:DAYLIGHT
TZOFFSETFROM:-0500
TZOFFSETTO:-0400
TZNAME:EDT
DTSTART:20260308T070000
END:DAYLIGHT
BEGIN:STANDARD
TZOFFSETFROM:-0400
TZOFFSETTO:-0500
TZNAME:EST
DTSTART:20261101T060000
END:STANDARD
END:VTIMEZONE
BEGIN:VEVENT
DTSTART;TZID=America/New_York:20251120T080000
DTEND;TZID=America/New_York:20251120T170000
DTSTAMP:20260425T195140
CREATED:20250501T161223Z
LAST-MODIFIED:20250501T161546Z
UID:56292-1763625600-1763658000@crimepreventionhq.com
SUMMARY:FCPTI Crime Prevention Through Environmental Design (CPTED) Update Course - November 2025
DESCRIPTION:Course Description\nThe Florida Crime Prevention CPTED Practitioner (FCP) Update course is designed for individuals who already possess the FCP designation. The one-day (8 hour) course provides new and updated information on Crime Prevention Through Environmental Design from the United States and International CPTED programs. Course content is continually updated to ensure that the most recent information is made available to class participants. \n*This course fulfills the renewal requirements for the Florida Crime Prevention CPTED Practitioner designation. \n*Course topics are subject to change. This course does not count towards any Victims Service Designation Renewal hours. \nTraining Location\nThis course will be held at the Tamarac Community Center\, 8601 Commercial Blvd\, Tamarac\, Florida\, 33351. Phone number is (954) 597-3620 for directions. \nLodging\nFairfield Inn & Suites Fort Lauderdale Northwest\, 6800 NW 88th Avenue\, Tamarac\, Florida 33321. For reservations\, call (754) 238-1300\, refer to the group name CPTED Training\, or click the link below and select the desired dates. The room rate is $129.00 and reservations must be made by October 19\, 2025. \nReservation Link: Book your group rate for • CPTED Training \nInstructor\nI will be instructing this course for the Florida Office of the Attorney General’s Florida Crime Prevention Training Institute. Although I am an instructor for the FCPTI\, I am not an employee. \nShare this:\n				Share on X (Opens in new window)\n				X\n			\n				Share on Facebook (Opens in new window)\n				Facebook\n			\n				Email a link to a friend (Opens in new window)\n				Email\n			\n				Print (Opens in new window)\n				Print\n			More\n				Share on LinkedIn (Opens in new window)\n				LinkedIn\n			\n				Share on Reddit (Opens in new window)\n				Reddit\n			\n				Share on Pinterest (Opens in new window)\n				Pinterest\n			\n				Share on Tumblr (Opens in new window)\n				Tumblr
URL:https://crimepreventionhq.com/event/fcpti-crime-prevention-through-environmental-design-cpted-update-course-november-2025
LOCATION:Tamarac Community Center\, 8601 Commercial Blvd\, Tamarac\, FL\, 33351\, United States
CATEGORIES:CPTED,FCPTI,Training Class
ATTACH;FMTTYPE=image/png:https://www.tothcomm.com/cp/files/2022/01/FCPTI-Transparent.png
ORGANIZER;CN="Office of the Attorney General of Florida %E2%80%93 Florida Crime Prevention Training Institute":MAILTO:fcpti@myfloridalegal.com
END:VEVENT
END:VCALENDAR