BEGIN:VCALENDAR
VERSION:2.0
PRODID:-//Crime Prevention HQ - ECPv6.15.17.1//NONSGML v1.0//EN
CALSCALE:GREGORIAN
METHOD:PUBLISH
X-ORIGINAL-URL:https://crimepreventionhq.com
X-WR-CALDESC:Events for Crime Prevention HQ
REFRESH-INTERVAL;VALUE=DURATION:PT1H
X-Robots-Tag:noindex
X-PUBLISHED-TTL:PT1H
BEGIN:VTIMEZONE
TZID:America/New_York
BEGIN:DAYLIGHT
TZOFFSETFROM:-0500
TZOFFSETTO:-0400
TZNAME:EDT
DTSTART:20240310T070000
END:DAYLIGHT
BEGIN:STANDARD
TZOFFSETFROM:-0400
TZOFFSETTO:-0500
TZNAME:EST
DTSTART:20241103T060000
END:STANDARD
BEGIN:DAYLIGHT
TZOFFSETFROM:-0500
TZOFFSETTO:-0400
TZNAME:EDT
DTSTART:20250309T070000
END:DAYLIGHT
BEGIN:STANDARD
TZOFFSETFROM:-0400
TZOFFSETTO:-0500
TZNAME:EST
DTSTART:20251102T060000
END:STANDARD
BEGIN:DAYLIGHT
TZOFFSETFROM:-0500
TZOFFSETTO:-0400
TZNAME:EDT
DTSTART:20260308T070000
END:DAYLIGHT
BEGIN:STANDARD
TZOFFSETFROM:-0400
TZOFFSETTO:-0500
TZNAME:EST
DTSTART:20261101T060000
END:STANDARD
END:VTIMEZONE
BEGIN:VEVENT
DTSTART;TZID=America/New_York:20251117T080000
DTEND;TZID=America/New_York:20251119T170000
DTSTAMP:20260425T195111
CREATED:20250501T160819Z
LAST-MODIFIED:20250501T161115Z
UID:56290-1763366400-1763571600@crimepreventionhq.com
SUMMARY:FCPTI Advanced Crime Prevention Through Environmental Design (CPTED) Course - November 2025
DESCRIPTION:Course Description\nThe Advanced Crime Prevention Through Environmental Design (CPTED) course offered by the Attorney General’s Office is designed for individuals who have completed the Basic CPTED or 5-day CPTED for Schools class which includes plan review\, report writing\, lighting\, zoning\, behavioral management\, etc. Advanced CPTED will expand upon the Basic CPTED / 5-day CPTED for Schools course by incorporating new topics. Special emphasis will be placed on city ordinances and codes\, along with design reviews\, report writing\, and presentation skills. Lighting in relationship to the physical environment and the use of colors in behavioral management will be discussed. This is a “hands on” course which requires a basic understanding of CPTED concepts. Working exercises will be conducted throughout the three days in both the classroom and the field. Student participation is a must in order to successfully complete the class. Class participants will complete a working exercise which will incorporate a CPTED photometric or lighting survey. \n* This course is one of two courses necessary for the Florida Crime Prevention Through Environmental Design Practitioner designation. \n** YOU MUST HAVE TAKEN THE AG BASIC CPTED (or 5-day CPTED FOR SCHOOLS) COURSE TO ATTEND. \n **There will be a nighttime lighting exercise on Tuesday evening. Please note the course schedule when you receive the confirmation notice.  \n***Course topics are subject to change. This course does not count towards any Victims Service Designation Renewal hours. \nTraining Location\nThis course will be held at the Tamarac Community Center\, 8601 Commercial Blvd\, Tamarac\, Florida\, 33351. Phone number is (954) 597-3620 for directions. \nLodging\nFairfield Inn & Suites Fort Lauderdale Northwest\, 6800 NW 88th Avenue\, Tamarac\, Florida 33321. For reservations\, call (754) 238-1300\, refer to the group name CPTED Training\, or click the link below and select the desired dates. The room rate is $129.00 and reservations must be made by October 19\, 2025. \nReservation Link: Book your group rate for • CPTED Training \nInstructor\nI will be instructing this course for the Florida Office of the Attorney General’s Florida Crime Prevention Training Institute. Although I am an instructor for the FCPTI\, I am not an employee. \nRegistration Link\nfcpti.com/fcpti.nsf/forms/1ED16317263DAAA785258C12006CCBFA \n  \n  \nShare this:\n				Share on X (Opens in new window)\n				X\n			\n				Share on Facebook (Opens in new window)\n				Facebook\n			\n				Email a link to a friend (Opens in new window)\n				Email\n			\n				Print (Opens in new window)\n				Print\n			More\n				Share on LinkedIn (Opens in new window)\n				LinkedIn\n			\n				Share on Reddit (Opens in new window)\n				Reddit\n			\n				Share on Pinterest (Opens in new window)\n				Pinterest\n			\n				Share on Tumblr (Opens in new window)\n				Tumblr
URL:https://crimepreventionhq.com/event/fcpti-advanced-crime-prevention-through-environmental-design-cpted-course-november-2025
LOCATION:Tamarac Community Center\, 8601 Commercial Blvd\, Tamarac\, FL\, 33351\, United States
CATEGORIES:CPTED,FCPTI,Training Class
ATTACH;FMTTYPE=image/png:https://www.tothcomm.com/cp/files/2022/01/FCPTI-Transparent.png
ORGANIZER;CN="Office of the Attorney General of Florida %E2%80%93 Florida Crime Prevention Training Institute":MAILTO:fcpti@myfloridalegal.com
END:VEVENT
END:VCALENDAR