BEGIN:VCALENDAR
VERSION:2.0
PRODID:-//Crime Prevention HQ - ECPv6.15.17.1//NONSGML v1.0//EN
CALSCALE:GREGORIAN
METHOD:PUBLISH
X-WR-CALNAME:Crime Prevention HQ
X-ORIGINAL-URL:https://crimepreventionhq.com
X-WR-CALDESC:Events for Crime Prevention HQ
REFRESH-INTERVAL;VALUE=DURATION:PT1H
X-Robots-Tag:noindex
X-PUBLISHED-TTL:PT1H
BEGIN:VTIMEZONE
TZID:America/New_York
BEGIN:DAYLIGHT
TZOFFSETFROM:-0500
TZOFFSETTO:-0400
TZNAME:EDT
DTSTART:20240310T070000
END:DAYLIGHT
BEGIN:STANDARD
TZOFFSETFROM:-0400
TZOFFSETTO:-0500
TZNAME:EST
DTSTART:20241103T060000
END:STANDARD
BEGIN:DAYLIGHT
TZOFFSETFROM:-0500
TZOFFSETTO:-0400
TZNAME:EDT
DTSTART:20250309T070000
END:DAYLIGHT
BEGIN:STANDARD
TZOFFSETFROM:-0400
TZOFFSETTO:-0500
TZNAME:EST
DTSTART:20251102T060000
END:STANDARD
BEGIN:DAYLIGHT
TZOFFSETFROM:-0500
TZOFFSETTO:-0400
TZNAME:EDT
DTSTART:20260308T070000
END:DAYLIGHT
BEGIN:STANDARD
TZOFFSETFROM:-0400
TZOFFSETTO:-0500
TZNAME:EST
DTSTART:20261101T060000
END:STANDARD
END:VTIMEZONE
BEGIN:VEVENT
DTSTART;TZID=America/New_York:20250929T080000
DTEND;TZID=America/New_York:20251001T170000
DTSTAMP:20260425T194419
CREATED:20250501T155116Z
LAST-MODIFIED:20250501T155836Z
UID:56284-1759132800-1759338000@crimepreventionhq.com
SUMMARY:FCPTI Advanced Crime Prevention Through Environmental Design (CPTED) Course - September 2025
DESCRIPTION:Course Description\nThe Advanced Crime Prevention Through Environmental Design (CPTED) course offered by the Attorney General’s Office is designed for individuals who have completed the Basic CPTED or 5-day CPTED for Schools class which includes plan review\, report writing\, lighting\, zoning\, behavioral management\, etc. Advanced CPTED will expand upon the Basic CPTED / 5-day CPTED for Schools course by incorporating new topics. Special emphasis will be placed on city ordinances and codes\, along with design reviews\, report writing\, and presentation skills. Lighting in relationship to the physical environment and the use of colors in behavioral management will be discussed. This is a “hands on” course which requires a basic understanding of CPTED concepts. Working exercises will be conducted throughout the three days in both the classroom and the field. Student participation is a must in order to successfully complete the class. Class participants will complete a working exercise which will incorporate a CPTED photometric or lighting survey. \n* This course is one of two courses necessary for the Florida Crime Prevention Through Environmental Design Practitioner designation. \n** YOU MUST HAVE TAKEN THE AG BASIC CPTED (or 5-day CPTED FOR SCHOOLS) COURSE TO ATTEND. \n **There will be a nighttime lighting exercise on Tuesday evening. Please note the course schedule when you receive the confirmation notice.  \n***Course topics are subject to change. This course does not count towards any Victims Service Designation Renewal hours. \nTraining Location\nThis course will be held at the Doubletree by Hilton Palm Beach Gardens\, at 4431 PGA Blvd\, Palm Beach Gardens\, Florida 33410. \nLodging\nDoubletree by Hilton Palm Beach Gardens\, at 4431 PGA Blvd\, Palm Beach Gardens\, Florida 33410. To reserve your hotel stay\, book online and refer to group name Florida Crime Prevention Training Institute – Adv CPTED – Course #156-25-03. Block group rate for standard guest room is $129.00. Reservations must be made by August 28\, 2025\, to receive group rate. \nReservation Link: Book your group rate for • Florida Crime Prevention Training Institute – Advanced CPTED \nInstructor\nI will be instructing this course for the Florida Office of the Attorney General’s Florida Crime Prevention Training Institute. Although I am an instructor for the FCPTI\, I am not an employee. \nRegistration Link\nfcpti.com/fcpti.nsf/forms/7899878803BC334485258BDA006453EC \n  \n  \nShare this:\n				Share on X (Opens in new window)\n				X\n			\n				Share on Facebook (Opens in new window)\n				Facebook\n			\n				Email a link to a friend (Opens in new window)\n				Email\n			\n				Print (Opens in new window)\n				Print\n			More\n				Share on LinkedIn (Opens in new window)\n				LinkedIn\n			\n				Share on Reddit (Opens in new window)\n				Reddit\n			\n				Share on Pinterest (Opens in new window)\n				Pinterest\n			\n				Share on Tumblr (Opens in new window)\n				Tumblr
URL:https://crimepreventionhq.com/event/fcpti-advanced-crime-prevention-through-environmental-design-cpted-course-september-2025
LOCATION:Doubletree by Hilton Palm Beach Gardens\, 4431 PGA Blvd\, Palm Beach Gardens\, FL\, 33410\, United States
CATEGORIES:CPTED,FCPTI,Training Class
ATTACH;FMTTYPE=image/png:https://www.tothcomm.com/cp/files/2022/01/FCPTI-Transparent.png
ORGANIZER;CN="Office of the Attorney General of Florida %E2%80%93 Florida Crime Prevention Training Institute":MAILTO:fcpti@myfloridalegal.com
END:VEVENT
BEGIN:VEVENT
DTSTART;TZID=America/New_York:20251002T080000
DTEND;TZID=America/New_York:20251002T170000
DTSTAMP:20260425T194419
CREATED:20250501T160015Z
LAST-MODIFIED:20250501T160254Z
UID:56286-1759392000-1759424400@crimepreventionhq.com
SUMMARY:FCPTI Crime Prevention Through Environmental Design (CPTED) Update Course - October 2025
DESCRIPTION:Course Description\nThe Florida Crime Prevention CPTED Practitioner (FCP) Update course is designed for individuals who already possess the FCP designation. The one-day (8 hour) course provides new and updated information on Crime Prevention Through Environmental Design from the United States and International CPTED programs. Course content is continually updated to ensure that the most recent information is made available to class participants. \n*This course fulfills the renewal requirements for the Florida Crime Prevention CPTED Practitioner designation. \n*Course topics are subject to change. This course does not count towards any Victims Service Designation Renewal hours. \nTraining Location\nThis course will be held at the Doubletree by Hilton Palm Beach Gardens\, at 4431 PGA Blvd\, Palm Beach Gardens\, Florida 33410. \nLodging\nDoubletree by Hilton Palm Beach Gardens\, at 4431 PGA Blvd\, Palm Beach Gardens\, Florida 33410. To reserve your hotel stay\, book online and refer to group name Florida Crime Prevention Training Institute – CPTED Update – Course #161-25-02. Block group rate for standard guest room is $129.00. Reservations must be made by September 1\, 2025\, to receive group rate. \nReservation Link: Book your group rate for • Florida Crime Prevention Training Institute – CPTED Update \nInstructor\nI will be instructing this course for the Florida Office of the Attorney General’s Florida Crime Prevention Training Institute. Although I am an instructor for the FCPTI\, I am not an employee. \nShare this:\n				Share on X (Opens in new window)\n				X\n			\n				Share on Facebook (Opens in new window)\n				Facebook\n			\n				Email a link to a friend (Opens in new window)\n				Email\n			\n				Print (Opens in new window)\n				Print\n			More\n				Share on LinkedIn (Opens in new window)\n				LinkedIn\n			\n				Share on Reddit (Opens in new window)\n				Reddit\n			\n				Share on Pinterest (Opens in new window)\n				Pinterest\n			\n				Share on Tumblr (Opens in new window)\n				Tumblr
URL:https://crimepreventionhq.com/event/fcpti-crime-prevention-through-environmental-design-cpted-update-course-may-2025-copy
LOCATION:Doubletree by Hilton Palm Beach Gardens\, 4431 PGA Blvd\, Palm Beach Gardens\, FL\, 33410\, United States
CATEGORIES:CPTED,FCPTI,Training Class
ATTACH;FMTTYPE=image/png:https://www.tothcomm.com/cp/files/2022/01/FCPTI-Transparent.png
ORGANIZER;CN="Office of the Attorney General of Florida %E2%80%93 Florida Crime Prevention Training Institute":MAILTO:fcpti@myfloridalegal.com
END:VEVENT
BEGIN:VEVENT
DTSTART;TZID=America/New_York:20251013T080000
DTEND;TZID=America/New_York:20251017T170000
DTSTAMP:20260425T194419
CREATED:20250501T160405Z
LAST-MODIFIED:20250501T160717Z
UID:56288-1760342400-1760720400@crimepreventionhq.com
SUMMARY:FCPTI Basic CPTED (Crime Prevention Through Environmental Design) Course October 2025
DESCRIPTION:The Florida Office of the Attorney General’s Florida Crime Prevention Training Institute will be presenting the Basic CPTED course in Orlando\, Florida. \nCourse Description\nDuring the five-day (40-hour) Basic Crime Prevention Through Environmental Design (CPTED) course\, participants focus on basic CPTED concepts of proper design and effective use of the physical environment to achieve a more productive use of space and a reduction in crime. Students learn architectural and planning terms and definitions\, techniques used to analyze the potential for crime\, how to identify relationships and conflicts that exist between crime and the environment\, and the application of CPTED strategies in neighborhoods\, schools and other sites. Emphasis is placed on documented case studies and specific CPTED applications in commercial\, transportation\, and public housing settings. Participants are instructed in how to read construction blueprints and schematic diagrams; how to communicate with planning\, engineering\, and construction personnel; and in making recommendations to city\, county and state agencies. \n*This course is one of two courses necessary for the Florida Crime Prevention Through Environmental Design Practitioner designation. \n*Course topics are subject to change. This course does not count towards any Victims Service Designation Renewal hours. \nTraining Location\nThis course will be held at the Tamarac Community Center\, 8601 Commercial Blvd\, Tamarac\, Florida\, 33351. Phone number is (954) 597-3620 for directions. \nLodging\nFairfield Inn & Suites Fort Lauderdale Northwest\, 6800 NW 88th Avenue\, Tamarac\, Florida 33321. For reservations\, call (754) 238-1300\, refer to the group name Basic CPTED Training\, or click the link below and select the desired dates. The room rate is $129.00 and reservations must be made by September 12\, 2025. \nReservation Link: Book your group rate for • Basic CPTED Training \nInstructor\nI will be instructing this course for the Florida Office of the Attorney General’s Florida Crime Prevention Training Institute. Although I am an instructor for the FCPTI\, I am not an employee. \nShare this:\n				Share on X (Opens in new window)\n				X\n			\n				Share on Facebook (Opens in new window)\n				Facebook\n			\n				Email a link to a friend (Opens in new window)\n				Email\n			\n				Print (Opens in new window)\n				Print\n			More\n				Share on LinkedIn (Opens in new window)\n				LinkedIn\n			\n				Share on Reddit (Opens in new window)\n				Reddit\n			\n				Share on Pinterest (Opens in new window)\n				Pinterest\n			\n				Share on Tumblr (Opens in new window)\n				Tumblr
URL:https://crimepreventionhq.com/event/fcpti-basic-cpted-crime-prevention-through-environmental-design-course-october-2025
LOCATION:Tamarac Community Center\, 8601 Commercial Blvd\, Tamarac\, FL\, 33351\, United States
CATEGORIES:CPTED,FCPTI,Training Class
ATTACH;FMTTYPE=image/png:https://www.tothcomm.com/cp/files/2022/01/FCPTI-Transparent.png
ORGANIZER;CN="Office of the Attorney General of Florida %E2%80%93 Florida Crime Prevention Training Institute":MAILTO:fcpti@myfloridalegal.com
END:VEVENT
END:VCALENDAR